BEGIN:VCALENDAR
VERSION:2.0
PRODID:-//Habitat for Humanity of Archuleta County - ECPv6.15.11//NONSGML v1.0//EN
CALSCALE:GREGORIAN
METHOD:PUBLISH
X-ORIGINAL-URL:https://www.habitatarchuleta.org
X-WR-CALDESC:Events for Habitat for Humanity of Archuleta County
REFRESH-INTERVAL;VALUE=DURATION:PT1H
X-Robots-Tag:noindex
X-PUBLISHED-TTL:PT1H
BEGIN:VTIMEZONE
TZID:America/Denver
BEGIN:DAYLIGHT
TZOFFSETFROM:-0700
TZOFFSETTO:-0600
TZNAME:MDT
DTSTART:20250309T090000
END:DAYLIGHT
BEGIN:STANDARD
TZOFFSETFROM:-0600
TZOFFSETTO:-0700
TZNAME:MST
DTSTART:20251102T080000
END:STANDARD
BEGIN:DAYLIGHT
TZOFFSETFROM:-0700
TZOFFSETTO:-0600
TZNAME:MDT
DTSTART:20260308T090000
END:DAYLIGHT
BEGIN:STANDARD
TZOFFSETFROM:-0600
TZOFFSETTO:-0700
TZNAME:MST
DTSTART:20261101T080000
END:STANDARD
BEGIN:DAYLIGHT
TZOFFSETFROM:-0700
TZOFFSETTO:-0600
TZNAME:MDT
DTSTART:20270314T090000
END:DAYLIGHT
BEGIN:STANDARD
TZOFFSETFROM:-0600
TZOFFSETTO:-0700
TZNAME:MST
DTSTART:20271107T080000
END:STANDARD
END:VTIMEZONE
BEGIN:VEVENT
DTSTART;TZID=America/Denver:20260330T173000
DTEND;TZID=America/Denver:20260330T183000
DTSTAMP:20260420T120752
CREATED:20260225T205743Z
LAST-MODIFIED:20260225T210237Z
UID:3391-1774891800-1774895400@www.habitatarchuleta.org
SUMMARY:Monday's In March
DESCRIPTION:Are you working toward owning a home of your own in\nPagosa Springs? Habitat Archuleta is seeking Partners to\nBuild in 2027! \nIf you’re interested in buying a new home equipped\nwith net zero roof top solar panels\, and having a\nmortgage you can afford\, swing by one informational\nmeeting on a Monday in March 2026. \nHabitat staff will walk through common questions on our\napplication\, the supporting documentation required\,\nand deadlines. RSVP for childcare or reach out with any other questions \n970.264.6960 volunteer@habitatarchuleta.org \n  \n 
URL:https://www.habitatarchuleta.org/event/mondays-in-march-3/
LOCATION:Pagosa Community Initiative Art Studios\, 550 B Hot Springs Blvd\, Pagosa Springs\, 81147
CATEGORIES:Monday's In March
ATTACH;FMTTYPE=image/jpeg:https://www.habitatarchuleta.org/wp-content/uploads/2026/02/MONDAYS-IN-MARCH-2026-flyer.jpg
END:VEVENT
BEGIN:VEVENT
DTSTART;TZID=America/Denver:20260323T173000
DTEND;TZID=America/Denver:20260323T183000
DTSTAMP:20260420T120752
CREATED:20260225T202246Z
LAST-MODIFIED:20260225T210257Z
UID:3388-1774287000-1774290600@www.habitatarchuleta.org
SUMMARY:Monday's In March
DESCRIPTION:Are you working toward owning a home of your own in\nPagosa Springs? Habitat Archuleta is seeking Partners to\nBuild in 2027! \nIf you’re interested in buying a new home equipped\nwith net zero roof top solar panels\, and having a\nmortgage you can afford\, swing by one informational\nmeeting on a Monday in March 2026. \nHabitat staff will walk through common questions on our\napplication\, the supporting documentation required\,\nand deadlines.  RSVP for childcare or reach out with any other questions \n970.264.6960 volunteer@habitatarchuleta.org \n 
URL:https://www.habitatarchuleta.org/event/mondays-in-march-2/
LOCATION:Pagosa Community Initiative Art Studios\, 550 B Hot Springs Blvd\, Pagosa Springs\, 81147
CATEGORIES:Monday's In March
ATTACH;FMTTYPE=image/jpeg:https://www.habitatarchuleta.org/wp-content/uploads/2026/02/MONDAYS-IN-MARCH-2026-flyer.jpg
END:VEVENT
BEGIN:VEVENT
DTSTART;TZID=America/Denver:20260316T173000
DTEND;TZID=America/Denver:20260316T183000
DTSTAMP:20260420T120752
CREATED:20260225T193730Z
LAST-MODIFIED:20260225T210319Z
UID:3379-1773682200-1773685800@www.habitatarchuleta.org
SUMMARY:Monday's in March
DESCRIPTION:Are you working toward owning a home of your own in\nPagosa Springs? Habitat Archuleta is seeking Partners to\nBuild in 2027! \nIf you’re interested in buying a new home equipped\nwith net zero roof top solar panels\, and having a\nmortgage you can afford\, swing by one informational\nmeeting on a Monday in March 2026. \nHabitat staff will walk through common questions on our\napplication\, the supporting documentation required\,\nand deadlines. RSVP for childcare or reach out with any other questions \n970.264.6960 volunteer@habitatarchuleta.org \n 
URL:https://www.habitatarchuleta.org/event/mondays-in-march/
LOCATION:Pagosa Community Initiative Art Studios\, 550 B Hot Springs Blvd\, Pagosa Springs\, 81147
CATEGORIES:Monday's In March
ATTACH;FMTTYPE=image/jpeg:https://www.habitatarchuleta.org/wp-content/uploads/2026/02/MONDAYS-IN-MARCH-2026-flyer.jpg
END:VEVENT
END:VCALENDAR